BEGIN:VCALENDAR
VERSION:2.0
PRODID:-//www.midpenn.org//NONSGML kigkonsult.se iCalcreator 2.30.10//
CALSCALE:GREGORIAN
METHOD:PUBLISH
UID:c3c00231-bf7f-4a10-93a7-5a64080d0e68
X-WR-CALDESC:
X-WR-RELCALID:0366657b76735cbca7d4fcbb42cec562
X-WR-TIMEZONE:America/New_York
BEGIN:VTIMEZONE
TZID:America/New_York
BEGIN:STANDARD
TZNAME:EST
DTSTART:20251102T020000
TZOFFSETFROM:-0400
TZOFFSETTO:-0500
RDATE:20261101T020000
END:STANDARD
BEGIN:DAYLIGHT
TZNAME:EDT
DTSTART:20250309T020000
TZOFFSETFROM:-0500
TZOFFSETTO:-0400
RDATE:20260308T020000
RDATE:20270314T020000
END:DAYLIGHT
END:VTIMEZONE
BEGIN:VEVENT
UID:cf0bf6fc-76fd-4c97-a0eb-296da28ae5f5
DTSTAMP:20260422T205208Z
DESCRIPTION:
DTSTART;TZID=America/New_York:20251225T060000
DTEND;TZID=America/New_York:20251225T060001
LOCATION:
SUMMARY:Christmas Day - MidPenn offices closed
END:VEVENT
END:VCALENDAR
