BEGIN:VCALENDAR
VERSION:2.0
PRODID:-//www.midpenn.org//NONSGML kigkonsult.se iCalcreator 2.30.10//
CALSCALE:GREGORIAN
METHOD:PUBLISH
UID:7f4e8825-fdea-41a9-a5af-ca8410a4900e
X-WR-CALDESC:A day of networking\, job opportunities\, career training and 
 resource navigation. Connecting job seekers with employers. Registration i
 s required for expungement and driver's license services.
X-WR-RELCALID:12f15fb5aa8c1388c251f61fab973cbb
X-WR-TIMEZONE:America/New_York
BEGIN:VTIMEZONE
TZID:America/New_York
BEGIN:STANDARD
TZNAME:EST
DTSTART:20241103T020000
TZOFFSETFROM:-0400
TZOFFSETTO:-0500
RDATE:20251102T020000
END:STANDARD
BEGIN:DAYLIGHT
TZNAME:EDT
DTSTART:20250309T020000
TZOFFSETFROM:-0500
TZOFFSETTO:-0400
RDATE:20260308T020000
END:DAYLIGHT
END:VTIMEZONE
BEGIN:VEVENT
UID:e0866897-102a-4344-8f0f-859e48222123
DTSTAMP:20260421T000402Z
DESCRIPTION:A day of networking\, job opportunities\, career training and r
 esource navigation. Connecting job seekers with employers. Registration is
  required for expungement and driver's license services.
DTSTART;TZID=America/New_York:20250417T100000
DTEND;TZID=America/New_York:20250417T140000
LOCATION:HACC - CYTEC Building\, 2161 Pennsylvania Avenue\, York\, PA 17404
  US
SUMMARY:2nd Chance Job Fair - Including Expungement & Driver's Restoration 
 Clinic
END:VEVENT
END:VCALENDAR
