BEGIN:VCALENDAR
VERSION:2.0
PRODID:-//www.midpenn.org//NONSGML kigkonsult.se iCalcreator 2.30.10//
CALSCALE:GREGORIAN
METHOD:PUBLISH
UID:f8df238c-0268-4c50-9283-b9c810c94c78
X-WR-CALDESC:Join MidPenn Legal Services for a celebration honoring members
  of the legal profession who have made significant contributions toward ac
 hieving Equal Justice for all members of our community.\n\nWhat: Access to
  Justice \n\nWhen: Thursday\, September 26\, 2024\n                5:30 – 
 7:30 p.m.\n\nWhere: Mount Nittany Overlook\, 559 North Pennsylvania Avenue
 \, Centre Hall\, PA 16828\n\nCost:  $25.00 per person - includes complimen
 tary wine glass\, gavel and heavy hors d'oeuvres.\n\nRegistration Deadline
 : September 22\, 2024
X-WR-RELCALID:5f07248c3543430abf2c37b47387364b
X-WR-TIMEZONE:America/New_York
BEGIN:VTIMEZONE
TZID:America/New_York
BEGIN:STANDARD
TZNAME:EST
DTSTART:20231105T020000
TZOFFSETFROM:-0400
TZOFFSETTO:-0500
RDATE:20241103T020000
RDATE:20251102T020000
END:STANDARD
BEGIN:DAYLIGHT
TZNAME:EDT
DTSTART:20240310T020000
TZOFFSETFROM:-0500
TZOFFSETTO:-0400
RDATE:20250309T020000
RDATE:20260308T020000
END:DAYLIGHT
END:VTIMEZONE
BEGIN:VEVENT
UID:eca43587-c59a-4fe1-b739-1d95f4e64397
DTSTAMP:20260425T032113Z
DESCRIPTION:Join MidPenn Legal Services for a celebration honoring members 
 of the legal profession who have made significant contributions toward ach
 ieving Equal Justice for all members of our community.\n\nWhat: Access to 
 Justice \n\nWhen: Thursday\, September 26\, 2024\n                5:30 – 7
 :30 p.m.\n\nWhere: Mount Nittany Overlook\, 559 North Pennsylvania Avenue\
 , Centre Hall\, PA 16828\n\nCost:  $25.00 per person - includes compliment
 ary wine glass\, gavel and heavy hors d'oeuvres.\n\nRegistration Deadline:
  September 22\, 2024
DTSTART;TZID=America/New_York:20240926T173000
DTEND;TZID=America/New_York:20240926T193000
LOCATION:Mount Nittany Overlook Event Center\, 559 North Pennsylvania Avenu
 e\, Centre Hall\, PA 16828 US
SUMMARY:Access to Justice 2024
END:VEVENT
END:VCALENDAR
