BEGIN:VCALENDAR
VERSION:2.0
PRODID:-//www.midpenn.org//NONSGML kigkonsult.se iCalcreator 2.30.10//
CALSCALE:GREGORIAN
METHOD:PUBLISH
UID:de0a6599-f765-4918-80c4-34a374306678
X-WR-CALDESC:In celebration of 50 years of Advocacy\, Justice & Hope MidPen
 n is hosting an open house at our Centre County office.\nLight refreshment
 s will be served.
X-WR-RELCALID:54691bbd139cc1fa65c511755f437d8f
X-WR-TIMEZONE:America/New_York
BEGIN:VTIMEZONE
TZID:America/New_York
BEGIN:STANDARD
TZNAME:EST
DTSTART:20181104T020000
TZOFFSETFROM:-0400
TZOFFSETTO:-0500
RDATE:20191103T020000
RDATE:20201101T020000
END:STANDARD
BEGIN:DAYLIGHT
TZNAME:EDT
DTSTART:20190310T020000
TZOFFSETFROM:-0500
TZOFFSETTO:-0400
RDATE:20200308T020000
RDATE:20210314T020000
END:DAYLIGHT
END:VTIMEZONE
BEGIN:VEVENT
UID:09edf096-1f42-46ab-ab5c-cb8b60da553d
DTSTAMP:20260419T222631Z
DESCRIPTION:In celebration of 50 years of Advocacy\, Justice & Hope MidPenn
  is hosting an open house at our Centre County office.\nLight refreshments
  will be served.
DTSTART;TZID=America/New_York:20190924T150000
DTEND;TZID=America/New_York:20190924T170000
LOCATION:MidPenn Legal Services\, 3500 East  College Avenue\, Suite 1295\, 
 State College\, PA 16801
SUMMARY:Open House - State College Office
END:VEVENT
END:VCALENDAR
